BEGIN:VCALENDAR
VERSION:2.0
PRODID:-//CREST - ECPv6.15.20//NONSGML v1.0//EN
CALSCALE:GREGORIAN
METHOD:PUBLISH
X-WR-CALNAME:CREST
X-ORIGINAL-URL:https://www.crest-approved.org
X-WR-CALDESC:Events for CREST
REFRESH-INTERVAL;VALUE=DURATION:PT1H
X-Robots-Tag:noindex
X-PUBLISHED-TTL:PT1H
BEGIN:VTIMEZONE
TZID:Asia/Singapore
BEGIN:STANDARD
TZOFFSETFROM:+0800
TZOFFSETTO:+0800
TZNAME:+08
DTSTART:20230101T000000
END:STANDARD
END:VTIMEZONE
BEGIN:VEVENT
DTSTART;TZID=Asia/Singapore:20241010T183000
DTEND;TZID=Asia/Singapore:20241010T220000
DTSTAMP:20260425T131157
CREATED:20241002T131731Z
LAST-MODIFIED:20241213T171455Z
UID:7277-1728585000-1728597600@www.crest-approved.org
SUMMARY:CREST x Div0 Meetup
DESCRIPTION:Post-event resources\nThe event was well attended and the boys from Vantage Point Security delivered an engaging talk that saw endless questions from the audience. So thank you Xiang Braxton Hiap\, Gary Wong\, and Myo O. you did fab! 🙌 \nWe were also able to discuss the latest exam updates and promotions with the Singapore #cybersecurity community. \n\n		\n		\n			\n				\n			\n			\n				\n			\n			\n				\n			\n		\n\n  \n\nWe are delighted to announce the next CREST x Div0 Meetup\, in partnership with Division Zero (Div0) and CyberSG TIG Collaboration Centre. Learn how E2EE applies to modern applications and discover the process of overcoming its limitations. \nWe are proud to introduce Xiang Braxton Hiap\, Gary Wong\, and Derrick Myo O.\, Security Consultants from CREST member company Vantage Point Security\, who will serve as our three expert speakers on End-to-End Encryption. \nEvent Agenda \n\n6:30 PM: Registration & Networking (30mins)\n7:00 PM: Introduction & Announcement (15mins)\n7:15 PM: “All About E2EE” by Braxton Hiap\, Gary Wong\, and Derrick Myo (45mins)\n8:05 PM: Q&A Discussion (40mins)\nTill Late: Networking\n\nSee you there! \n 
URL:https://www.crest-approved.org/event/crest-x-div0-meetup/
LOCATION:CyberSG TIG Collaboration Centre\, 71 Ayer Rajah Crescent\, #02-18\, 139951\, Singapore
CATEGORIES:Asia events
ATTACH;FMTTYPE=image/jpeg:https://www.crest-approved.org/wp-content/uploads/2024/10/CREST-x-Div0-Meetup.jpeg
END:VEVENT
END:VCALENDAR