BEGIN:VCALENDAR
VERSION:2.0
PRODID:-//CREST - ECPv6.15.20//NONSGML v1.0//EN
CALSCALE:GREGORIAN
METHOD:PUBLISH
X-WR-CALNAME:CREST
X-ORIGINAL-URL:https://www.crest-approved.org
X-WR-CALDESC:Events for CREST
REFRESH-INTERVAL;VALUE=DURATION:PT1H
X-Robots-Tag:noindex
X-PUBLISHED-TTL:PT1H
BEGIN:VTIMEZONE
TZID:Europe/London
BEGIN:DAYLIGHT
TZOFFSETFROM:+0000
TZOFFSETTO:+0100
TZNAME:BST
DTSTART:20240331T010000
END:DAYLIGHT
BEGIN:STANDARD
TZOFFSETFROM:+0100
TZOFFSETTO:+0000
TZNAME:GMT
DTSTART:20241027T010000
END:STANDARD
BEGIN:DAYLIGHT
TZOFFSETFROM:+0000
TZOFFSETTO:+0100
TZNAME:BST
DTSTART:20250330T010000
END:DAYLIGHT
BEGIN:STANDARD
TZOFFSETFROM:+0100
TZOFFSETTO:+0000
TZNAME:GMT
DTSTART:20251026T010000
END:STANDARD
BEGIN:DAYLIGHT
TZOFFSETFROM:+0000
TZOFFSETTO:+0100
TZNAME:BST
DTSTART:20260329T010000
END:DAYLIGHT
BEGIN:STANDARD
TZOFFSETFROM:+0100
TZOFFSETTO:+0000
TZNAME:GMT
DTSTART:20261025T010000
END:STANDARD
END:VTIMEZONE
BEGIN:VEVENT
DTSTART;VALUE=DATE:20250912
DTEND;VALUE=DATE:20250914
DTSTAMP:20260422T152919
CREATED:20250704T141957Z
LAST-MODIFIED:20251222T172217Z
UID:8842-1757635200-1757807999@www.crest-approved.org
SUMMARY:OWASP AppSec Days Singapore 2025
DESCRIPTION:We are a Supporting Partner and CTF prize sponsor at the 2nd annual OWASP AppSec Days Singapore hosted by our Community Supporter\, OWASP Foundation! \nJoin the OWASP team for two full days of immersive training sessions led by industry experts\, insightful research presentations\, Capture the Flag (CTF) competition\, and valuable networking opportunities with a global community of security professionals. \nTraining and Capture The Flag (CTF) Competition \nA full day of immersive training sessions led by industry experts. Perfect your skills with hands-on workshops and put your knowledge to the test in an adrenaline-pumping Capture The Flag competition. Prepare yourselves for: \n\nHands-on workshops\nLive CTF competition\nNetworking opportunities with industry experts\n\nVenue: Lifelong Learning Institute\, 11 Eunos Rd 8\, Singapore 408601 \nDate: 12 September 2025 \nConference \nThe CREST Community can use the code PARTNER60 to get SGD 60 off on your conference day ticket! Join the OWASP team for a day of inspiring talks\, cutting-edge research presentations\, and valuable networking opportunities with the brightest minds in application security. Get ready for: \n\nKeynote presentations\nTechnical deep dives\nIndustry exhibitors\n\nVenue: M Hotel Singapore\, 81 Anson Rd\, Singapore 079908 \nDate: 13 September 2025 \nSee you there!
URL:https://www.crest-approved.org/event/owasp-appsec-days-singapore-2025/
LOCATION:Lifelong Learning Institute\, 11 Eunos Rd\, Singapore\, 408601\, Singapore
CATEGORIES:Asia events
ATTACH;FMTTYPE=image/png:https://www.crest-approved.org/wp-content/uploads/2025/07/OWASP-AppSec-Days-scaled.png
END:VEVENT
END:VCALENDAR