BEGIN:VCALENDAR
VERSION:2.0
PRODID:-//CREST - ECPv6.15.20//NONSGML v1.0//EN
CALSCALE:GREGORIAN
METHOD:PUBLISH
X-WR-CALNAME:CREST
X-ORIGINAL-URL:https://www.crest-approved.org
X-WR-CALDESC:Events for CREST
REFRESH-INTERVAL;VALUE=DURATION:PT1H
X-Robots-Tag:noindex
X-PUBLISHED-TTL:PT1H
BEGIN:VTIMEZONE
TZID:Asia/Bangkok
BEGIN:STANDARD
TZOFFSETFROM:+0700
TZOFFSETTO:+0700
TZNAME:+07
DTSTART:20230101T000000
END:STANDARD
END:VTIMEZONE
BEGIN:VEVENT
DTSTART;TZID=Asia/Bangkok:20241116T080000
DTEND;TZID=Asia/Bangkok:20241116T170000
DTSTAMP:20260422T014937
CREATED:20241016T142025Z
LAST-MODIFIED:20241220T110938Z
UID:7333-1731744000-1731776400@www.crest-approved.org
SUMMARY:Red x Blue Pill 2024
DESCRIPTION:Post-event resources\nIt was a fantastic opportunity for us to have supported the Red x Blue Pill 2024 event in Bangkok! 🎉 \nCongratulations to our Community Supporter 2600 Thailand for hosting such a successful event that brought together professionals\, enthusiasts\, and thought leaders in cybersecurity! \nPictured below are representatives from CREST Member Company\, Vantage Point Security who were at the event and actively contributed to an awesome event 🙌 \n \n\n  \nWe are delighted to support the upcoming Red x Blue Pill 2024 as a Silver Sponsor! \nRed x Blue Pill 2024 is an annual conference organised by our Community Partner 2600 Thailand that aims to provide a forum for exchanging knowledge and experiences in practical cybersecurity. Additionally\, it serves as a meeting space for ethical hackers\, cybersecurity researchers\, and participants with similar interests in the Thai cybersecurity community. \nThis conference will focus on the practical side of cybersecurity in both offensive security\, attacking to assess risk and system security\, and defensive security\, preventing and improving system security. This is to emphasize the importance of both skills\, which are essential for cybersecurity. \nTopics: \n\nFrom granted Certificate can became Certi-FIRED !? How we could pwned domain by ADCS Adversary Simulation Testing by Nuttakorn Tungpoonsup (Kasikorn Business Technology Group)\nOffensive Security with Portable RFID Hardware in Red Team Operations by Korn Chaisuwan and Charanin Thongudom (SnoopBees)\nTransforming SharePoint CVE Analysis into Actionable Exploits by Chaiwat Thongyaem (Datafarm)\nBeyond Automation: Identifying and Exploiting SQL Injection Vulnerabilities in Bespoke Applications by Purinut Wongwaiwuttiguldej\, Trirattree Koanamsai\, and Surawit Yosaeng (SecureD)\nHow to Bypass Security Detection by Pacharapob Nithipbowonsook and Tavis Mekharuangpaisan (SOSECURE)\nHow to Hack ICS: Controlling PLCs and Industrial Systems by Lai Pradith (Permis Security)\nStore personal data in compliance with PDPA\, prioritizing law enforcement requirements by Pol Col Amornchai Leelakajonjit (Royal Thai Police)\nSource Code Review: Fantastic Bugs and Where to Find Them by Eakasit Tangmunchittham and Chanon Temkamolsin (SecureD)\nOld Wine in a New Bottle; From Password to Passkey by Thanadol Supnitikul and Peeranat Thantaletong (Siam Thanat Hack)\nInsights from BangkokShell: How They Target Organisations in Thailand by Pisut Muangsamai (Siriraj Piyamaharajkarun Hospital)\nSecure Software Development and Engineering by Jemuel Dalino (Agoda)\nThe Pegasus Investigation: A Technical Coordinator’s Perspective by Dollapak Suwanpunya (Independent)\n\nSee you there!
URL:https://www.crest-approved.org/event/red-x-blue-pill-2024/
LOCATION:Amari Don Muang Airport\, Amari Don Muang Airport\, Bangkok\, Thailand
CATEGORIES:Asia events
ATTACH;FMTTYPE=image/png:https://www.crest-approved.org/wp-content/uploads/2024/10/2600-event-header.png
END:VEVENT
END:VCALENDAR