BEGIN:VCALENDAR
VERSION:2.0
PRODID:-//CREST - ECPv6.15.20//NONSGML v1.0//EN
CALSCALE:GREGORIAN
METHOD:PUBLISH
X-ORIGINAL-URL:https://www.crest-approved.org
X-WR-CALDESC:Events for CREST
REFRESH-INTERVAL;VALUE=DURATION:PT1H
X-Robots-Tag:noindex
X-PUBLISHED-TTL:PT1H
BEGIN:VTIMEZONE
TZID:Europe/London
BEGIN:DAYLIGHT
TZOFFSETFROM:+0000
TZOFFSETTO:+0100
TZNAME:BST
DTSTART:20250330T010000
END:DAYLIGHT
BEGIN:STANDARD
TZOFFSETFROM:+0100
TZOFFSETTO:+0000
TZNAME:GMT
DTSTART:20251026T010000
END:STANDARD
BEGIN:DAYLIGHT
TZOFFSETFROM:+0000
TZOFFSETTO:+0100
TZNAME:BST
DTSTART:20260329T010000
END:DAYLIGHT
BEGIN:STANDARD
TZOFFSETFROM:+0100
TZOFFSETTO:+0000
TZNAME:GMT
DTSTART:20261025T010000
END:STANDARD
BEGIN:DAYLIGHT
TZOFFSETFROM:+0000
TZOFFSETTO:+0100
TZNAME:BST
DTSTART:20270328T010000
END:DAYLIGHT
BEGIN:STANDARD
TZOFFSETFROM:+0100
TZOFFSETTO:+0000
TZNAME:GMT
DTSTART:20271031T010000
END:STANDARD
END:VTIMEZONE
BEGIN:VTIMEZONE
TZID:Australia/Sydney
BEGIN:STANDARD
TZOFFSETFROM:+1100
TZOFFSETTO:+1000
TZNAME:AEST
DTSTART:20250405T160000
END:STANDARD
BEGIN:DAYLIGHT
TZOFFSETFROM:+1000
TZOFFSETTO:+1100
TZNAME:AEDT
DTSTART:20251004T160000
END:DAYLIGHT
BEGIN:STANDARD
TZOFFSETFROM:+1100
TZOFFSETTO:+1000
TZNAME:AEST
DTSTART:20260404T160000
END:STANDARD
BEGIN:DAYLIGHT
TZOFFSETFROM:+1000
TZOFFSETTO:+1100
TZNAME:AEDT
DTSTART:20261003T160000
END:DAYLIGHT
BEGIN:STANDARD
TZOFFSETFROM:+1100
TZOFFSETTO:+1000
TZNAME:AEST
DTSTART:20270403T160000
END:STANDARD
BEGIN:DAYLIGHT
TZOFFSETFROM:+1000
TZOFFSETTO:+1100
TZNAME:AEDT
DTSTART:20271002T160000
END:DAYLIGHT
END:VTIMEZONE
BEGIN:VTIMEZONE
TZID:America/Los_Angeles
BEGIN:DAYLIGHT
TZOFFSETFROM:-0800
TZOFFSETTO:-0700
TZNAME:PDT
DTSTART:20250309T100000
END:DAYLIGHT
BEGIN:STANDARD
TZOFFSETFROM:-0700
TZOFFSETTO:-0800
TZNAME:PST
DTSTART:20251102T090000
END:STANDARD
BEGIN:DAYLIGHT
TZOFFSETFROM:-0800
TZOFFSETTO:-0700
TZNAME:PDT
DTSTART:20260308T100000
END:DAYLIGHT
BEGIN:STANDARD
TZOFFSETFROM:-0700
TZOFFSETTO:-0800
TZNAME:PST
DTSTART:20261101T090000
END:STANDARD
BEGIN:DAYLIGHT
TZOFFSETFROM:-0800
TZOFFSETTO:-0700
TZNAME:PDT
DTSTART:20270314T100000
END:DAYLIGHT
BEGIN:STANDARD
TZOFFSETFROM:-0700
TZOFFSETTO:-0800
TZNAME:PST
DTSTART:20271107T090000
END:STANDARD
END:VTIMEZONE
BEGIN:VEVENT
DTSTART;VALUE=DATE:20260204
DTEND;VALUE=DATE:20260206
DTSTAMP:20260422T172040
CREATED:20260126T163126Z
LAST-MODIFIED:20260130T162000Z
UID:9468-1770163200-1770335999@www.crest-approved.org
SUMMARY:Cybersec Asia 2026 
DESCRIPTION:We are a CTF Prize Sponsor at Cybersec Asia 2026! 🌟 \nFind out more about the CTF Competition here. \nCREST at Cybersec Asia 2026  \nOur Thailand Council Member\, Paul Craig\, will participate in an Educational Panel on Day 2: \nDate & Time: 5 February\, 11:30 – 12:15\nStage: Main Stage\, 5.2\nPanellists: \n\n\n\nCREST\nYesWeHack\n2600Thailand\nDivision Zero (Div0)\nOWASP Thailand\n\n\n\nAdditionally\, our APAC Secretariat\, Faye Percival\, will be in attendance. You may connect with them to find out the latest on CREST accreditations\, certifications\, career pathways\, latest promotions\, and our cyber capacity building initiatives. \nCREST Cybersecurity Community Meetup \nJoin us at the CREST Cybersecurity Community Meetup in Bangkok! \n👉 Please register here: https://tinyurl.com/4vutzkbd \nAbout the event \nCybersec Asia is an international cybersecurity event that aims to unite both local and global cybersecurity players to delve into the thriving and dynamic opportunities in the CLMVT (Cambodia\, Laos\, Myanmar\, Vietnam\, and Thailand) region\, as well as fastest growing cybersecurity market\, Asia Pacific. \nIt is a valuable event for a diverse group of attendees\, including business leaders\, investors\, entrepreneurs\, technology enthusiasts\, policymakers\, and professionals in the cybersecurity industry. It offers insights into the latest trends and innovations in cybersecurity technology\, making it an excellent opportunity for anyone interested in staying ahead in this rapidly evolving field. \nThe event is also ideal for startups and established companies looking to showcase their products and services\, connect with potential partners\, and explore funding opportunities.
URL:https://www.crest-approved.org/event/cybersec-asia-2026/
LOCATION:Queen Sirikit National Convention Centre (QSNCC)\, Ratchadaphisek Road\, Bangkok\, 10110\, Thailand
CATEGORIES:Asia events
ATTACH;FMTTYPE=image/jpeg:https://www.crest-approved.org/wp-content/uploads/2026/01/fairlogo_cbca26-251106112814.jpg
END:VEVENT
BEGIN:VEVENT
DTSTART;TZID=Australia/Sydney:20260210T080000
DTEND;TZID=Australia/Sydney:20260211T170000
DTSTAMP:20260422T172040
CREATED:20260114T101836Z
LAST-MODIFIED:20260130T165817Z
UID:9415-1770710400-1770829200@www.crest-approved.org
SUMMARY:CISO Sydney 2026
DESCRIPTION:We are an Industry Partner at CISO Sydney 2026! \nThe CREST Community can enjoy 20% off tickets using our code APAC20  \nCREST at CISO Sydney \nOur New Zealand Council Member\, Ray Dussan\, will be in attendance. You may connect with him to find out the latest on CREST accreditations\, certifications\, career pathways\, latest promotions\, and our cyber capacity building initiatives. \nAbout the event \nCISO Sydney is the largest annual gathering of NSW’s most senior InfoSec decision makers. We’re bringing together the industry’s best for the fifth year\, to tackle key challenges and share their learnings. \nThis important event will cover everything from risk management\, threat processes\, resilience strategy\, and leadership to enabling business growth — providing you with critical insights to help propel your business forward. \nIn 2026\, CISO Sydney will run alongside multiple InfoSec events – OT Security Sydney\, Cloud Security Sydney\, and AppSec & DevSecOps Sydney – at the Royal Randwick Racecourse\, offering you a comprehensive platform to gain the crucial insights and connections you need to keep your business at the forefront of the industry. \nKey Themes \n\nShifting the centre of gravity: Embedding security into leadership behaviours\, strategic priorities and operational norms through culture\, capability and shared responsibility.\nAI in question: Examining AI’s real impact on the threat landscape from how it changes attacker tactics to how defenders prepare\, respond\, and lead their organisations.\nYour risk\, my problem: Moving from tick-box compliance to genuine shared responsibility\, protecting the business from vulnerabilities across the supply chain.\nMindset over tools: Empowering individuals to prevent and respond to cyber risks by fostering a resilient\, cyber-conscious mindset that becomes second nature in daily life.\n\nSee you there!
URL:https://www.crest-approved.org/event/ciso-sydney-2026/
LOCATION:Royal Randwick Racecourse\, Alison Road\, Randwick\, New South Wales\, 2031\, Australia
CATEGORIES:Australasia events
ATTACH;FMTTYPE=image/png:https://www.crest-approved.org/wp-content/uploads/2026/01/CISO-Sydney-2026-event-banner.png
END:VEVENT
BEGIN:VEVENT
DTSTART;VALUE=DATE:20260222
DTEND;VALUE=DATE:20260226
DTSTAMP:20260422T172040
CREATED:20251223T101139Z
LAST-MODIFIED:20251223T103343Z
UID:9391-1771718400-1772063999@www.crest-approved.org
SUMMARY:ViVE 2025
DESCRIPTION:Come and meet the CREST NA team at our booth in the exhibit hall to find out all the latest about our certifications\, accreditations and more! \nViVE – powered by CHIME and HLTH – is where digital health execs go to do business. \nWhat makes ViVE different: \n\nEfficient marketplace for decision makers and solution providers to connect and align around common goals.\nOver 3\,000 facilitated double opt-in\, 1:1 meetings.\nProgressive sessions led by industry leaders with tangible and actionable takeaways.\nInteractive show floor where sponsors and senior executives can mingle in a casual setting.\nAll-inclusive event experience including food\, beverages\, and unforgettable entertainment.
URL:https://www.crest-approved.org/event/vive-2025/
LOCATION:Los Angeles Convention Center\, 1201 S Figueroa St\, Los Angeles\, CA\, 90015\, United States
CATEGORIES:Americas events
ATTACH;FMTTYPE=image/png:https://www.crest-approved.org/wp-content/uploads/2025/12/VIVE-2026-event-banner.png
END:VEVENT
BEGIN:VEVENT
DTSTART;VALUE=DATE:20260317
DTEND;VALUE=DATE:20260319
DTSTAMP:20260422T172040
CREATED:20260218T163957Z
LAST-MODIFIED:20260304T165035Z
UID:9518-1773705600-1773878399@www.crest-approved.org
SUMMARY:NZ National Cyber Security Summit 2026
DESCRIPTION:We are a Supporting Partner and Lunch Sponsor at the National Cyber Security Summit in Wellington\, New Zealand! 🌟 \nThe CREST Community can enjoy 20% off tickets using our code: CREST20 \n You may register here: https://brightstar.co.nz/events/cybersecurity/ \nCREST at the NZ National Cyber Security Summit  \nOur APAC Team\, Nigel Phair (Regional Director)\, Ray Dussan (New Zealand Council Member)\, and Faye Percival (Head of External Relations) will be in attendance. You may connect with them to find out the latest on CREST accreditations\, certifications\, career pathways\, latest promotions\, and our cyber capacity building initiatives. \nAbout the event \nThe NZ Cyber Security Summit is a collaboration between Tech New Zealand and Brightstar\, proudly organised by Kiwi professionals. With a strong history of bringing together government\, tech sector leaders\, and businesses\, this summit is the cornerstone of New Zealand’s national cybersecurity conversation. \nFollowing the success of their Annual Summit in 2025\, where over 400 cybersecurity professionals gathered for two days of insightful discussions and networking\, this conference is the opportunity to engage with thought leaders\, gain practical insights\, and explore the future of cybersecurity.
URL:https://www.crest-approved.org/event/nz-national-cyber-security-summit-2026/
LOCATION:Tākina Wellington Convention and Exhibition Centre\, 50 Cable Street\, Te Aro\, Wellington\, 6011\, New Zealand
CATEGORIES:Australasia events
ATTACH;FMTTYPE=image/jpeg:https://www.crest-approved.org/wp-content/uploads/2026/02/banner.jpg
END:VEVENT
BEGIN:VEVENT
DTSTART;VALUE=DATE:20260323
DTEND;VALUE=DATE:20260327
DTSTAMP:20260422T172040
CREATED:20251223T105656Z
LAST-MODIFIED:20260222T143652Z
UID:9394-1774224000-1774569599@www.crest-approved.org
SUMMARY:RSAC 2026 Conference
DESCRIPTION:Join thousands of your peers at RSAC™ 2026 Conference in San Francisco from March 23–26. \nDiscover new strategies\, explore bold technologies\, and connect with peers who share your challenges and ambitions. Don’t just attend the Conference–be part of the community that defines what’s next. \nAs a valued CREST Member\, you’ll receive exclusive savings on RSAC 2026 Conference. \nYou’ll receive an additional $150 in savings when you register using code 16UCRESTFAD. \nRegister Now. \nWe will be hosting a CREST Members breakfast on 25 March as part of RSAC 2026.  \nIf you are a CREST Member\, please click here to find out more about our 2026 breakfast event.
URL:https://www.crest-approved.org/event/rsac-2026/
LOCATION:Moscone Center\, 747 Howard St\, San Francisco\, CA\, 94103\, United States
CATEGORIES:Americas events
ATTACH;FMTTYPE=image/png:https://www.crest-approved.org/wp-content/uploads/2025/12/RSAC-2026-event-banner.png
END:VEVENT
BEGIN:VEVENT
DTSTART;VALUE=DATE:20260429
DTEND;VALUE=DATE:20260430
DTSTAMP:20260422T172040
CREATED:20260416T142927Z
LAST-MODIFIED:20260417T111639Z
UID:9728-1777420800-1777507199@www.crest-approved.org
SUMMARY:100 CISO Summit and Awards 2026
DESCRIPTION:We are an Institutional Partner at the 6th Annual 100 CISO Summit & Awards in Kuala Lumpur\, Malaysia! \nThe CREST Community can enjoy 10% off tickets using our code: CISO10 \nCREST at the 100 CISO Summit & Awards \nOur Asia Council Chair\, BK Soon\, has once again been invited to serve as a juror for the awards\, which span 4 categories recognising individual excellence and end-user achievements. These are the CISO of the Year – Strategic Cyber Leadership Award\, Cybersecurity Innovation Leader of the Year\, Cyber Defense Team Excellence Award\, and Cyber Resilience & Transformation Team Award. \nOur Malaysian Council Members will also participate at the summit: \n\nVikneswaran Kunasegaran\, will deliver a keynote presentation\, “Pentest in the Age of AI: Are We Keeping Up?”\, at 09:40\, discussing how AI is being used across the penetration testing lifecycle\, based on our latest insight report. You may download it here: https://www.crest-approved.org/ai-in-penetration-testing/ \nRamesh Naidu\, will take part in a panel discussion\, “Cybersecurity Beyond the SOC: Building Enterprise-Wide Risk Resilience” from 10:45 to 11:30 to explore how cybersecurity teams can seamlessly integrate with other risk domains to strengthen overall organisational resilience.\n\nAbout the event \nMalaysia’s cybersecurity landscape is entering a defining era in 2026 — where AI-enabled attacks\, quantum risks\, and expanding digital ecosystems are reshaping how organizations defend\, respond\, and build resilience. As automation and intelligence drive both innovation and exploitation\, CISOs must evolve faster than the threats themselves. \nThe 6th Annual 100 CISO Summit & Awards 2026 unites Malaysia’s foremost cybersecurity leaders\, regulators\, and technology experts to address the next wave of challenges. Through real-world case studies\, forward-looking strategies\, and practical discussions\, this summit equips security leaders with the insights to anticipate AI-driven threats\, prepare for post-quantum disruption\, and embed resilience across the enterprise.
URL:https://www.crest-approved.org/event/100-ciso-summit-and-awards-2026/
LOCATION:Renaissance Kuala Lumpur Hotel\, Malaysia\, Corner of Jalan Sultan Ismail and Jalan Ampang\, Kuala Lumpur\, 50450\, Malaysia
CATEGORIES:Asia events
ATTACH;FMTTYPE=image/png:https://www.crest-approved.org/wp-content/uploads/2026/04/CISO-Summit-2026.png
END:VEVENT
BEGIN:VEVENT
DTSTART;VALUE=DATE:20260429
DTEND;VALUE=DATE:20260430
DTSTAMP:20260422T172040
CREATED:20260401T161836Z
LAST-MODIFIED:20260401T161836Z
UID:9688-1777420800-1777507199@www.crest-approved.org
SUMMARY:BrisSEC 2026
DESCRIPTION:We look forward to supporting the Australian Information Security Association (AISA) as they hold the upcoming BrisSEC 2026! \nAbout the event \nThe annual AISA Queensland Cyber Security Conference – BrisSEC\, brings together AISA members and the Sunshine State cybersecurity community to strengthen connections\, celebrate achievements\, and foster meaningful collaboration. \nThe BrisSEC 2026 conference theme\, The race to secure the Sunshine State\, recognises that cybersecurity is a continuous contest. We compete across technology\, governance\, and people to protect\, detect\, and respond to threats that are always gaining speed. \nThis year’s conference will include discussions about how to face adversaries that adapt faster than control design and implementation\, governance decisions made under pressure\, and helping our teams and each other across the finish line.
URL:https://www.crest-approved.org/event/brissec-2026/
LOCATION:The Star Grand Hotel\, 33 William St\, Brisbane\, QLD 4000\, Australia
CATEGORIES:Australasia events
ATTACH;FMTTYPE=image/jpeg:https://www.crest-approved.org/wp-content/uploads/2026/04/aisa_brisbane_cover.jpeg
END:VEVENT
BEGIN:VEVENT
DTSTART;VALUE=DATE:20260513
DTEND;VALUE=DATE:20260514
DTSTAMP:20260422T172040
CREATED:20260327T163137Z
LAST-MODIFIED:20260327T163628Z
UID:9668-1778630400-1778716799@www.crest-approved.org
SUMMARY:CRESTCon Australia Community Day 2026
DESCRIPTION:Overview \nFollowing Member feedback and a review of our events programme\, CREST is evolving its approach in Australia to deliver a broader mix of targeted\, high-value engagements. These are designed to better support our diverse community and create more opportunities for knowledge sharing\, peer connection\, and informed discussion. \nEvent details \nThe CRESTCon Australia Community Day 2026 will take place on Wednesday\, 13 May at the Hilton Sydney. Join us for a day of knowledge exchange with technical experts and networking with the wider Australian cybersecurity community. \nThe theme for the day is Threat Intelligence: From Signals to Strategy\, with a focus on how intelligence is gathered\, analysed\, and used in real-world environments to stay ahead of adversaries and strengthen cyber resilience. \nWhether you are just beginning your career in cybersecurity or are experienced in the field\, this event will offer a great opportunity to hear the latest insights on emerging trends that shape the industry\, and to meet with your peers from across the region. \nCall for Papers \nThis is a day for the technical cybersecurity community. We are looking for speakers to share real-world experiences that bring Threat Intelligence to life. \nThis is your opportunity to step away from your day job and theory and showcase what actually works in practice. We are particularly interested in sessions that explore: \n\nHow intelligence has informed or changed an engagement\, operation\, or outcome\nLessons learned from live environments\, incidents\, or adversary behaviour\nTechniques\, tooling\, or methodologies that have advanced your approach\nThe intersection of Threat Intelligence with penetration testing\, red teaming\, SOC operations\, or incident response\nWhat is changing in the threat landscape\, and how practitioners are adapting in real time\n\nSubmissions are welcome from individuals at all stages of their career\, both locally and internationally. \nThe Call for Papers 2026 is now open! Submit your presentation ideas here: https://forms.office.com/e/1Hn9GvbNT7 \nPlease submit your proposal by Friday\, 17 April 2026. Late submissions may not be considered. \nTickets & Registration \nOur Full Delegate passes are priced at $79. \nSecure your tickets here: https://www.eventbrite.co.uk/e/crestcon-australia-community-day-2026-tickets-1985790982284?aff=ebdsoporgprofile \n🎉 Special for CREST Members: \nOur Member companies will receive one complimentary ticket to attend the event and a 50% discount on additional tickets. \nSpaces are limited — take advantage of these early offers and register today to be part of one of Australia’s most anticipated cyber security gatherings! \nSign up through Eventbrite: https://www.eventbrite.co.uk/e/crestcon-australia-community-day-2026-tickets-1985790982284?aff=ebdsoporgprofile
URL:https://www.crest-approved.org/event/crestcon-australia-community-day-2026/
LOCATION:Hilton Sydney\, 488 George St\, Sydney\, New South Wales\, 2000\, Australia
CATEGORIES:Australasia events
ATTACH;FMTTYPE=image/png:https://www.crest-approved.org/wp-content/uploads/2026/03/Australia-1.png
END:VEVENT
BEGIN:VEVENT
DTSTART;VALUE=DATE:20260515
DTEND;VALUE=DATE:20260518
DTSTAMP:20260422T172040
CREATED:20260409T171755Z
LAST-MODIFIED:20260410T145338Z
UID:9702-1778803200-1779062399@www.crest-approved.org
SUMMARY:BSides Melbourne 2026
DESCRIPTION:We are a CTF Prize Sponsor and Supporting Partner at BSides Melbourne! \nCREST at BSides Melbourne \nOur Australasia Council Member\, Renae Schilg\, will be in attendance. You may connect with her to find out the latest on CREST accreditations\, certifications\, career pathways\, latest promotions\, and our cyber capacity building initiatives. \nThe CREST Community can enjoy free tickets using our code: BSIDESMEL-SPONSOR-CREST \nPlease claim your tickets by 11 April 2026. \nAbout the event \nBSides Melbourne aims to target participants from all areas of Information Security – seasoned professionals\, students\, graduates\, new professionals\, or anyone keen to expand their body of knowledge. People who attend BSides have various backgrounds in different sectors and verticals. Their common goal is to learn about emerging issues and connect with those around them. \nThis conference is made up of a bunch of infosec friends with 20+ years behind them who simply want to make a positive impact on the Melbourne community. They are driven by sharing information\, have a huge passion for growth in the industry\, where researchers can present their work in a friendly and welcoming environment\, and everybody has an opportunity to learn and network.
URL:https://www.crest-approved.org/event/bsides-melbourne-2026/
LOCATION:SEEK HQ\, 60-88 Cremorne St\, Cremorne VIC\, 3121\, Australia
CATEGORIES:Australasia events
ATTACH;FMTTYPE=image/png:https://www.crest-approved.org/wp-content/uploads/2026/04/BSides-Melbourne.png
END:VEVENT
BEGIN:VEVENT
DTSTART;VALUE=DATE:20260519
DTEND;VALUE=DATE:20260521
DTSTAMP:20260422T172040
CREATED:20260409T170747Z
LAST-MODIFIED:20260409T170747Z
UID:9694-1779148800-1779321599@www.crest-approved.org
SUMMARY:CyberSecMalaysia Conference 2026 (19 to 20 May)
DESCRIPTION:We are a Strategic Partner at the CyberSecMalaysia Conference! \nThe CREST Community can enjoy 20% off tickets by signing up through this link: https://tinyurl.com/57fpezmd \nCREST at CyberSecMalaysia Conference 2026 \nOur Malaysian Council Representative\, Ts. Vikneswaran Kunasegaran\, will moderate a panel discussion\, “Building Cyber-Resilient Organisations Through Leadership and Talent for Sustainable Defense“\, on Day 2 of the conference\, 20 May at 16:00. \nYou may also connect with him to find out the latest on CREST accreditations\, certifications\, career pathways\, latest promotions\, and our cyber capacity building initiatives. \nAbout the event \nCyberSecMY Conference 2026 is Malaysia’s premier cybersecurity gathering\, designed to unite security leaders\, technology innovators\, policymakers\, and solution providers in a dynamic exchange of knowledge and strategies. Over the course of two days\, the conference will deliver high-level discussions\, actionable insights\, and cutting-edge demonstrations aimed at strengthening the nation’s digital defenses. \nThe event will serve as a catalyst for collaboration between the public and private sectors\, enabling participants to forge valuable connections\, explore breakthrough solutions\, and gain strategic clarity in an era where cyber resilience is a business imperative. \nCSMY2026 is the annual convergence point for those dedicated to protecting the nation’s digital assets. Attendees will leave equipped with innovative strategies\, stronger partnerships\, and a sharper vision for safeguarding their organizations in an era of unprecedented cyber risk.
URL:https://www.crest-approved.org/event/cybersecmalaysia-conference-2026-19-to-20-may/
LOCATION:Hilton Kuala Lumpur\, 3\, Jalan Stesen Sentral\, Kuala Lumpur Sentral\, Kuala Lumpur\, Wilayah Persekutuan\, 50470\, Malaysia
CATEGORIES:Australasia events
ATTACH;FMTTYPE=image/png:https://www.crest-approved.org/wp-content/uploads/2026/04/1200x628.png
END:VEVENT
BEGIN:VEVENT
DTSTART;VALUE=DATE:20260527
DTEND;VALUE=DATE:20260529
DTSTAMP:20260422T172040
CREATED:20260409T171405Z
LAST-MODIFIED:20260409T171405Z
UID:9698-1779840000-1780012799@www.crest-approved.org
SUMMARY:CyberConnect Canberra 2026
DESCRIPTION:We look forward to supporting the Australian Information Security Association (AISA) as they hold the upcoming CyberConnect Canberra 2026! \nAbout the event \nCyberConnect Canberra reinforces Australia’s position as the world’s fifth most powerful cyber nation by bringing together the nation’s top cybersecurity ministers\, policy makers\, business leaders\, and cybersecurity vendors. \nThe Australian Information Security Association (AISA) works to advance the digital security and safety of Australians and Australia. AISA is Australia’s cybersecurity peak body\, representing over 14\,000 members. \nCyberConnect Canberra will feature two days packed with keynote speeches\, panel discussions\, roundtables\, and interactive workshops—all aimed at promoting dialogue\, sharing best practices\, and shaping the future of Australia’s cyber security landscape. The conference is organised around four main themes: \n\nStrengthening organisational resilience and protection\nDeveloping the cyber ecosystem\nPositioning Australia as a global leader in cybersecurity\nAddressing future threats\, opportunities\, and innovations
URL:https://www.crest-approved.org/event/cyberconnect-canberra-2026/
LOCATION:Hotel Realm\, 18 National Circuit\, Barton ACT\, 2600\, Australia
CATEGORIES:Australasia events
ATTACH;FMTTYPE=image/jpeg:https://www.crest-approved.org/wp-content/uploads/2026/04/c1e3eb49703143179addcac0d381a308.jpeg
END:VEVENT
BEGIN:VEVENT
DTSTART;VALUE=DATE:20260623
DTEND;VALUE=DATE:20260624
DTSTAMP:20260422T172040
CREATED:20260409T172139Z
LAST-MODIFIED:20260409T172139Z
UID:9706-1782172800-1782259199@www.crest-approved.org
SUMMARY:CISO Brisbane 2026
DESCRIPTION:We are an Industry Partner at CISO Brisbane! \nThe CREST Community can enjoy 20% off tickets using our code: APAC20 \nAbout the event \nCISO Brisbane 2026 is the largest annual gathering of Queensland’s most senior InfoSec decision-makers. \nPurpose built for executives safeguarding Queensland’s essential industries\, this year’s program explores adversary informed defence\, AI enabled governance\, and modern technology risk strategy by delivering sharp\, practice ready insight for today’s rapidly evolving enterprise environments. \nIn 2026\, CISO Brisbane will continue to serve as a vital gathering for advancing cyber security initiatives. Join us on the elite platform for security leaders to collaborate\, benchmark\, and accelerate capability. \nKey Themes for 2026 \n\nClosing the Invisible Gaps: Understanding how attackers exploit trusted platforms\, enforcing policy in complex environments.\nAI Acceleration with Governance: Automation without sacrificing control by balancing AI-driven security operations with governance and oversight.\nIntelligence Meets Immediate Action: Continuous attack‑surface monitoring & rapid response work to identify\, prioritise\, and neutralise threats as they arise.\nSecurity That Scales Through Culture: Embedding security into the fabric of the organisation to elevate workforce capability.
URL:https://www.crest-approved.org/event/ciso-brisbane-2026/
LOCATION:W Brisbane Hotel\, 81 N Quay\, Brisbane City\, QLD\, 4000\, Australia
CATEGORIES:Australasia events
ATTACH;FMTTYPE=image/png:https://www.crest-approved.org/wp-content/uploads/2026/04/1143-24-web-banner-corinium_ciso-brisbane-2024.png
END:VEVENT
END:VCALENDAR