BEGIN:VCALENDAR
VERSION:2.0
PRODID:-//CREST - ECPv6.15.20//NONSGML v1.0//EN
CALSCALE:GREGORIAN
METHOD:PUBLISH
X-WR-CALNAME:CREST
X-ORIGINAL-URL:https://www.crest-approved.org
X-WR-CALDESC:Events for CREST
REFRESH-INTERVAL;VALUE=DURATION:PT1H
X-Robots-Tag:noindex
X-PUBLISHED-TTL:PT1H
BEGIN:VTIMEZONE
TZID:Asia/Krasnoyarsk
BEGIN:STANDARD
TZOFFSETFROM:+0700
TZOFFSETTO:+0700
TZNAME:+07
DTSTART:20230101T000000
END:STANDARD
END:VTIMEZONE
BEGIN:VEVENT
DTSTART;TZID=Asia/Krasnoyarsk:20241002T093000
DTEND;TZID=Asia/Krasnoyarsk:20241002T170000
DTSTAMP:20260423T114832
CREATED:20240816T143155Z
LAST-MODIFIED:20241210T100000Z
UID:7051-1727861400-1727888400@www.crest-approved.org
SUMMARY:CYBERSEC VIETNAM CONFERENCE 2024
DESCRIPTION:Post-event resources\nWe are thrilled to have supported the inaugural CYBERSEC VIETNAM 2024 in Ho Chi Minh City! \nIt was an incredible opportunity to connect with the Vietnamese cybersecurity community\, see our members from Vietnamese Security Network J.S.C – VSEC to KPMG Vietnam and PwC Vietnam leading discussion on the latest cybersecurity trends and innovations\, and share insights on international cybersecurity standards alongside our partners in Thailand AVM Amorn Chomchoey. \nWe are grateful for the engaging conversations and the chance to contribute to the dialogue on safeguarding our digital future in Vietnam and across the ASEAN region and beyond. \nA big thank you to our Vietnam ambassador Luong Truong Duc\, the organizers\, fellow speakers\, and supporters\, and all the attendees who made this event a success! Let’s continue to collaborate and innovate to build a safer\, digital future. \n\n		\n		\n			\n				\n			\n			\n				\n			\n			\n				\n			\n			\n				\n			\n			\n				\n			\n			\n				\n			\n		\n\n  \n\nCREST is thrilled to be announced as a Supporting Partner of the CYBERSEC VIETNAM CONFERENCE 2024! \nWe are delighted to confirm that our CREST Ambassador for Vietnam\, Mr. Luong Truong Duc\, will be speaking on “Building Trust in the Digital World: By Raising Standards in the Global Cybersecurity Industry” at the event. \nThe CYBERSEC VIETNAM CONFERENCE 2024 is a premier full-day event dedicated to advancing cybersecurity in the Asia Pacific region. Scheduled for October 2nd at the InterContinental Hotel in Ho Chi Minh City\, the conference will bring together over 250 delegates\, including CISOs\, CTOs\, CIOs\, and cybersecurity experts. Attendees will benefit from keynote presentations\, panel discussions\, and unique networking opportunities with local associations and private sectors. \nThis event will advance cybersecurity collaboration and innovation across the Asia Pacific\, featuring keynote presentations\, panel discussions\, and an exhibition featuring 20+ leading exhibitors. We still have complimentary delegate passes (including F&B) available for C-Suite executives and managers. You may apply here: https://cybersec-asia.net/cybersec-asia-cybersec-vietnam-conference/. \nSee you in Vietnam!
URL:https://www.crest-approved.org/event/cybersec-vietnam-conference-2024/
LOCATION:InterContinental Saigon\, 66 Đ. Nguyễn Du\, Bến Nghé\, Quận 1\, Hồ Chí Minh\, 700000\, Viet Nam
CATEGORIES:Asia events
ATTACH;FMTTYPE=image/png:https://www.crest-approved.org/wp-content/uploads/2024/08/CyberSec-Vietnam-Conference-2024-event-header.png
END:VEVENT
END:VCALENDAR