BEGIN:VCALENDAR
VERSION:2.0
PRODID:-//CREST - ECPv6.15.20//NONSGML v1.0//EN
CALSCALE:GREGORIAN
METHOD:PUBLISH
X-WR-CALNAME:CREST
X-ORIGINAL-URL:https://www.crest-approved.org
X-WR-CALDESC:Events for CREST
REFRESH-INTERVAL;VALUE=DURATION:PT1H
X-Robots-Tag:noindex
X-PUBLISHED-TTL:PT1H
BEGIN:VTIMEZONE
TZID:UTC
BEGIN:STANDARD
TZOFFSETFROM:+0000
TZOFFSETTO:+0000
TZNAME:UTC
DTSTART:20230101T000000
END:STANDARD
END:VTIMEZONE
BEGIN:VEVENT
DTSTART;VALUE=DATE:20241015
DTEND;VALUE=DATE:20241018
DTSTAMP:20260421T215421
CREATED:20240903T094101Z
LAST-MODIFIED:20241220T112857Z
UID:7080-1728950400-1729209599@www.crest-approved.org
SUMMARY:GovWare 2024
DESCRIPTION:Post-event resources\nCREST CEO\, Nick Benson and our Head of IT and Change\, Mark Grigg visit one of our members Schneider Electric whilst walking around GovWare24. \n\n		\n		\n			\n				\n			\n			\n				\n			\n			\n				\n			\n		\n\n  \n\nWe are delighted to announce CREST’s support for this year’s GovWare 2024! \nOn the first evening of the conference\, the 15th of October\, CREST will be hosting a private members’ dinner. We hope you can join us! \nSupported by the Cyber Security Agency of Singapore\, and a part of the renowned Singapore International Cyber Week\, GovWare 2024 confronts the core issues of modern cybersecurity challenges head-on\, under the theme of “Securing Dynamic Digital Roadmaps: Relooking Signposts in Identity\, Trust\, and Resilience”. \nThe conversation on fostering trust in the digital age will also take on an extended lens this year as novel concepts of inclusion are explored\, and address how prioritising consumer protection as a design fundamental is essential for shaping our collective digital destiny. Through thought-provoking presentations\, interactive panels\, innovation showcases\, and networking opportunities\, attendees will engage with cutting-edge ideas and collaborate on shaping the future of cybersecurity. \nKey Focus Areas \n\nCybersecurity Considerations in a Converged Digital Reality\nCybersecurity Environment\nEmerging / Developing Technology for Cybersecurity\nOperational Considerations\nThought Leadership and Strategy in Cybersecurity\n\nWe look forward to seeing you in Singapore!
URL:https://www.crest-approved.org/event/govware-2024/
LOCATION:Sands Expo and Convention Centre\, Singapore\, 10 Bayfront Avenue\, 018956\, Singapore
CATEGORIES:Asia events
ATTACH;FMTTYPE=image/png:https://www.crest-approved.org/wp-content/uploads/2024/09/Capture.png
END:VEVENT
END:VCALENDAR