BEGIN:VCALENDAR
VERSION:2.0
PRODID:-//CREST - ECPv6.15.20//NONSGML v1.0//EN
CALSCALE:GREGORIAN
METHOD:PUBLISH
X-ORIGINAL-URL:https://www.crest-approved.org
X-WR-CALDESC:Events for CREST
REFRESH-INTERVAL;VALUE=DURATION:PT1H
X-Robots-Tag:noindex
X-PUBLISHED-TTL:PT1H
BEGIN:VTIMEZONE
TZID:Asia/Hong_Kong
BEGIN:STANDARD
TZOFFSETFROM:+0800
TZOFFSETTO:+0800
TZNAME:HKT
DTSTART:20230101T000000
END:STANDARD
END:VTIMEZONE
BEGIN:VEVENT
DTSTART;TZID=Asia/Hong_Kong:20241111T090000
DTEND;TZID=Asia/Hong_Kong:20241111T174500
DTSTAMP:20260423T111748
CREATED:20241002T130423Z
LAST-MODIFIED:20241220T121736Z
UID:7273-1731315600-1731347100@www.crest-approved.org
SUMMARY:Hack A Day
DESCRIPTION:Post-event resources\nWhat an incredible day for our very own Faye Percival at the PwC Hack-a-Day event in Hong Kong!💻 \nIt was also great to see such an awesome turnout for Benjamin Harris\, CEO and Founder of CREST member company\, watchTowr. \nThank you to the PwC team for hosting such an exceptional event. Special shout-out to Jason Ka Meng Lee\, Jenius Shieh\, Kok Tin Gan\, and Vanessa Law for your dedication and hard work in bringing together such an inspiring experience. Your commitment to fostering learning and growth in the cyber security community is truly valued. \nCongratulations to all participants and winners of the CTF competition at hashtag#HackADay2024 in Hong Kong! It was amazing to witness your passion and talent for cyber shining through 🙌 \nIt was an honour to sponsor the CTF competition at the event this year! We are pleased to have contributed vouchers for our CPSA exam and keep supporting the cybersecurity community in Hong Kong 🎉 \n\n		\n		\n			\n				\n			\n			\n				\n			\n			\n				\n			\n			\n				\n			\n		\n\n  \n\n  \nWe are delighted to announce our support as the prize sponsor for the CTF competition at this year’s Hack A Day! Join us at Booth G4! \nHosted by PwC Hong Kong\, this year’s theme\, “Securing Identity”\, focuses on the critical importance of protecting personal and digital identities in our interconnected world. \nThis conference is dedicated to raising awareness and inspiring attendees about the importance of securing their digital identity. Expect insightful presentations from industry experts\, engaging workshops on identity governance\, data privacy\, and ample networking opportunities. \nSee you there! \n 
URL:https://www.crest-approved.org/event/hack-a-day/
LOCATION:M+\, Main Hall\, G/F\, M+\, West Kowloon Cultural District\, 38 Museum Drive\, Kowloon\, Hong Kong
CATEGORIES:Asia events
ATTACH;FMTTYPE=image/png:https://www.crest-approved.org/wp-content/uploads/2024/10/hackaday-conference-2024.png
END:VEVENT
END:VCALENDAR