BEGIN:VCALENDAR
VERSION:2.0
PRODID:-//CREST - ECPv6.15.20//NONSGML v1.0//EN
CALSCALE:GREGORIAN
METHOD:PUBLISH
X-ORIGINAL-URL:https://www.crest-approved.org
X-WR-CALDESC:Events for CREST
REFRESH-INTERVAL;VALUE=DURATION:PT1H
X-Robots-Tag:noindex
X-PUBLISHED-TTL:PT1H
BEGIN:VTIMEZONE
TZID:UTC
BEGIN:STANDARD
TZOFFSETFROM:+0000
TZOFFSETTO:+0000
TZNAME:UTC
DTSTART:20240101T000000
END:STANDARD
END:VTIMEZONE
BEGIN:VEVENT
DTSTART;VALUE=DATE:20250122
DTEND;VALUE=DATE:20250124
DTSTAMP:20260422T091339
CREATED:20241206T165414Z
LAST-MODIFIED:20250207T124724Z
UID:7551-1737504000-1737676799@www.crest-approved.org
SUMMARY:Cybersec Asia 2025
DESCRIPTION:Post-event resources \nWe had an incredible week at Cybersec Asia 2025 during Thailand Cyber Week in Bangkok\, expertly organised by the National Cyber Security Agency (Thailand) and VNU Asia Pacific. It is always an honour to contribute to such an impactful initiative! \nSpecial compliments to our Asia Vice Chair\, BK Soon\, and Thailand Ambassador\, Paul Craig\, for sharing their compelling insights on fostering the next generation of cyber security professionals and their contributions to developing sustainable cyber security ecosystems. \nOur very own Faye Percival had the pleasure of reconnecting with familiar faces from our accredited member companies\, including Bitdefender\, Cyberint\, a Check Point Company\, HackerOne\, Mandiant (part of Google Cloud)\, Palo Alto Networks\, softScheck APAC\, and watchTowr. \nWe’re dedicated to strengthening Thailand’s cyber security ecosystem by fostering collaboration and supporting initiatives that build the skills and expertise of local cyber professionals. \nWe look forward to further opportunities to drive growth and innovation in the field together. \n\n		\n		\n			\n				\n			\n			\n				\n			\n			\n				\n			\n		\n\n  \n\nWe are delighted to announce our support for Cybersec Asia during Thailand International Cyber Week 2025! Join us at Booth A12! \nAbout Cybersec Asia 2025 \nCybersec Asia is a valuable event for a diverse group of attendees\, including business leaders\, investors\, entrepreneurs\, technology enthusiasts\, policymakers\, and professionals in the cybersecurity industry. It offers insights into the latest trends and innovations in cybersecurity technology\, making it an excellent opportunity for anyone interested in staying ahead in this rapidly evolving field. \nThe event is also ideal for startups and established companies looking to showcase their products and services\, connect with potential partners\, and explore funding opportunities. \nJoin CREST for two panel discussions! \nCREST is honoured to be asked to participate in two panel discussions. Please see the agenda for further details: https://cybersec-asia.net/programme/\nDay 2 – Cybersecurity Skills Gap: Educating the Next Generation of Digital Defenders which will be moderated by CREST.\nDay 2 – Building an Ecosystem for Digital and Cybersecurity Industry which will be moderated by the National Cyber Security Agency of Thailand (NCSA). \nWe look forward to seeing you there!
URL:https://www.crest-approved.org/event/cybersec-asia-2025/
LOCATION:Queen Sirikit National Convention Centre (QSNCC)\, Ratchadaphisek Road\, Bangkok\, 10110\, Thailand
CATEGORIES:Asia events
ATTACH;FMTTYPE=image/jpeg:https://www.crest-approved.org/wp-content/uploads/2024/12/download-1.jpeg
END:VEVENT
END:VCALENDAR